BEGIN:VCALENDAR
VERSION:2.0
PRODID:-//Vagues Saxophone Quartet - ECPv5.15.0.1//NONSGML v1.0//EN
CALSCALE:GREGORIAN
METHOD:PUBLISH
X-WR-CALNAME:Vagues Saxophone Quartet
X-ORIGINAL-URL:https://vaguesquartet.com
X-WR-CALDESC:Eventi per Vagues Saxophone Quartet
BEGIN:VTIMEZONE
TZID:Europe/Paris
BEGIN:DAYLIGHT
TZOFFSETFROM:+0100
TZOFFSETTO:+0200
TZNAME:CEST
DTSTART:20260329T010000
END:DAYLIGHT
BEGIN:STANDARD
TZOFFSETFROM:+0200
TZOFFSETTO:+0100
TZNAME:CET
DTSTART:20261025T010000
END:STANDARD
END:VTIMEZONE
BEGIN:VEVENT
DTSTART;VALUE=DATE:20261213
DTEND;VALUE=DATE:20261215
DTSTAMP:20260420T200722
CREATED:20260228T124809Z
LAST-MODIFIED:20260228T124809Z
UID:1244-1797120000-1797292799@vaguesquartet.com
SUMMARY:Unione Musicale - Torino
DESCRIPTION:Vagues Saxophone Quartet\n“Americhe” \nAndrea Mocci – sax soprano\nFrancesco Ronzio – sax alto\nMattia Quirico – sax tenore\nVincent Dupuy – sax baritono \nMusiche di K. Weill\, G. Gershwin\, A. Piazzolla\, L. Bernstein
URL:https://vaguesquartet.com/index.php/event/unione-musicale-torino/
END:VEVENT
END:VCALENDAR