BEGIN:VCALENDAR
VERSION:2.0
PRODID:-//Vagues Saxophone Quartet - ECPv5.15.0.1//NONSGML v1.0//EN
CALSCALE:GREGORIAN
METHOD:PUBLISH
X-WR-CALNAME:Vagues Saxophone Quartet
X-ORIGINAL-URL:https://vaguesquartet.com
X-WR-CALDESC:Eventi per Vagues Saxophone Quartet
BEGIN:VTIMEZONE
TZID:Europe/Paris
BEGIN:DAYLIGHT
TZOFFSETFROM:+0100
TZOFFSETTO:+0200
TZNAME:CEST
DTSTART:20260329T010000
END:DAYLIGHT
BEGIN:STANDARD
TZOFFSETFROM:+0200
TZOFFSETTO:+0100
TZNAME:CET
DTSTART:20261025T010000
END:STANDARD
END:VTIMEZONE
BEGIN:VEVENT
DTSTART;VALUE=DATE:20260326
DTEND;VALUE=DATE:20260328
DTSTAMP:20260420T103632
CREATED:20251022T122715Z
LAST-MODIFIED:20251022T122715Z
UID:1236-1774483200-1774655999@vaguesquartet.com
SUMMARY:I Concerti di Primavera - Ellipsis Musica - Sassari
DESCRIPTION:
URL:https://vaguesquartet.com/index.php/event/i-concerti-di-primavera-ellipsis-musica-sassari/
END:VEVENT
END:VCALENDAR