BEGIN:VCALENDAR
VERSION:2.0
PRODID:-//Vagues Saxophone Quartet - ECPv5.15.0.1//NONSGML v1.0//EN
CALSCALE:GREGORIAN
METHOD:PUBLISH
X-WR-CALNAME:Vagues Saxophone Quartet
X-ORIGINAL-URL:https://vaguesquartet.com
X-WR-CALDESC:Eventi per Vagues Saxophone Quartet
BEGIN:VTIMEZONE
TZID:UTC
BEGIN:STANDARD
TZOFFSETFROM:+0000
TZOFFSETTO:+0000
TZNAME:UTC
DTSTART:20250101T000000
END:STANDARD
END:VTIMEZONE
BEGIN:VEVENT
DTSTART;VALUE=DATE:20250426
DTEND;VALUE=DATE:20250428
DTSTAMP:20260421T050518
CREATED:20240219T170228Z
LAST-MODIFIED:20250421T201040Z
UID:1174-1745625600-1745798399@vaguesquartet.com
SUMMARY:I Colori dell'Aria 12 - Costa di Mezzate (BG)
DESCRIPTION:Vagues Saxophone Quartet \nAndrea Mocci – sax soprano\nFrancesco Ronzio – sax alto\nMattia Quirico – sax tenore\nSalvatore Castellano – sax baritono \nConcerto per San Giorgio\nMusiche di Handel\, Bizet\, Auric\, Bohm\, G.C. Taccani (prima esecuzione assoluta)\, Ligeti\, Gershwin \n26 aprile 2025 ore 20.45\npresso Chiesa di S. Giorgio Martire\,\nCosta di Mezzate (BG)
URL:https://vaguesquartet.com/index.php/event/i-colori-dellaria-3/
LOCATION:Chiesa di San Giorgio Martire\, Via Don Angelo Cavagna\, 23\, Costa di Mezzate BG\, 24060\, Italia
END:VEVENT
END:VCALENDAR