BEGIN:VCALENDAR
VERSION:2.0
PRODID:-//Vagues Saxophone Quartet - ECPv5.15.0.1//NONSGML v1.0//EN
CALSCALE:GREGORIAN
METHOD:PUBLISH
X-WR-CALNAME:Vagues Saxophone Quartet
X-ORIGINAL-URL:https://vaguesquartet.com
X-WR-CALDESC:Eventi per Vagues Saxophone Quartet
BEGIN:VTIMEZONE
TZID:UTC
BEGIN:STANDARD
TZOFFSETFROM:+0000
TZOFFSETTO:+0000
TZNAME:UTC
DTSTART:20240101T000000
END:STANDARD
END:VTIMEZONE
BEGIN:VEVENT
DTSTART;VALUE=DATE:20241012
DTEND;VALUE=DATE:20241014
DTSTAMP:20260421T145534
CREATED:20240502T100517Z
LAST-MODIFIED:20240829T100143Z
UID:1178-1728691200-1728863999@vaguesquartet.com
SUMMARY:Mantova - Trame Sonore - Studiottantuno Contemporary Art Projects
DESCRIPTION:Venerdi 12 ottobre h. 19 \nVagues Saxophone Quartet \nAndrea Mocci \nFrancesco Ronzio\, \nMattia Quirico\, \nSalvatore Castellano \nProgram: \n\n\n\nFederico Troncatti – in Memoriam Bob Berg  for 4 soprano saxophones\nJacobTV – Postnuclear Scenario \nPeter Eötvös (in memoriam) – Lectures differents 13’ (in memoriam)\nAda Gentile – Sax Quartet\nAndrew Stiller – Chamber Symphony\n\n\n\n 
URL:https://vaguesquartet.com/index.php/event/mantova-studiottantuno-contemporary-art-projects/
END:VEVENT
END:VCALENDAR