BEGIN:VCALENDAR
VERSION:2.0
PRODID:-//Vagues Saxophone Quartet - ECPv5.15.0.1//NONSGML v1.0//EN
CALSCALE:GREGORIAN
METHOD:PUBLISH
X-WR-CALNAME:Vagues Saxophone Quartet
X-ORIGINAL-URL:https://vaguesquartet.com
X-WR-CALDESC:Eventi per Vagues Saxophone Quartet
BEGIN:VTIMEZONE
TZID:UTC
BEGIN:STANDARD
TZOFFSETFROM:+0000
TZOFFSETTO:+0000
TZNAME:UTC
DTSTART:20240101T000000
END:STANDARD
END:VTIMEZONE
BEGIN:VEVENT
DTSTART;VALUE=DATE:20240724
DTEND;VALUE=DATE:20240726
DTSTAMP:20260421T200403
CREATED:20240508T142202Z
LAST-MODIFIED:20240508T142202Z
UID:1184-1721779200-1721951999@vaguesquartet.com
SUMMARY:Fanano Saxophone Week
DESCRIPTION:Chiesa di S. Giuseppe \nFanano (MO) \nore 21.15 \nmusiche di Coggiola\, Ugoletti\, Stiller
URL:https://vaguesquartet.com/index.php/event/fanano-saxophone-week/
END:VEVENT
END:VCALENDAR