BEGIN:VCALENDAR
VERSION:2.0
PRODID:-//Vagues Saxophone Quartet - ECPv5.15.0.1//NONSGML v1.0//EN
CALSCALE:GREGORIAN
METHOD:PUBLISH
X-WR-CALNAME:Vagues Saxophone Quartet
X-ORIGINAL-URL:https://vaguesquartet.com
X-WR-CALDESC:Eventi per Vagues Saxophone Quartet
BEGIN:VTIMEZONE
TZID:UTC
BEGIN:STANDARD
TZOFFSETFROM:+0000
TZOFFSETTO:+0000
TZNAME:UTC
DTSTART:20240101T000000
END:STANDARD
END:VTIMEZONE
BEGIN:VEVENT
DTSTART;VALUE=DATE:20240325
DTEND;VALUE=DATE:20240327
DTSTAMP:20260422T021836
CREATED:20240208T092834Z
LAST-MODIFIED:20240208T092834Z
UID:1164-1711324800-1711497599@vaguesquartet.com
SUMMARY:Teatro Politeama - Palermo
DESCRIPTION:
URL:https://vaguesquartet.com/index.php/event/teatro-politeama-palermo/
END:VEVENT
END:VCALENDAR