BEGIN:VCALENDAR
VERSION:2.0
PRODID:-//Vagues Saxophone Quartet - ECPv5.15.0.1//NONSGML v1.0//EN
CALSCALE:GREGORIAN
METHOD:PUBLISH
X-WR-CALNAME:Vagues Saxophone Quartet
X-ORIGINAL-URL:https://vaguesquartet.com
X-WR-CALDESC:Eventi per Vagues Saxophone Quartet
BEGIN:VTIMEZONE
TZID:UTC
BEGIN:STANDARD
TZOFFSETFROM:+0000
TZOFFSETTO:+0000
TZNAME:UTC
DTSTART:20240101T000000
END:STANDARD
END:VTIMEZONE
BEGIN:VEVENT
DTSTART;VALUE=DATE:20240107
DTEND;VALUE=DATE:20240108
DTSTAMP:20260423T155026
CREATED:20200819T122159Z
LAST-MODIFIED:20231108T184135Z
UID:799-1704585600-1704671999@vaguesquartet.com
SUMMARY:Organ Project - Abtei Marienstatt
DESCRIPTION:07 Gennaio 2024 \nVagues Saxophone Quartet \nAndrea Mocci – sax soprano\nFrancesco Ronzio – sax alto\nMattia Quirico – sax tenore\nSalvatore Castellano – sax baritono \nGiovanni Solinas – organo \nMusiche di Von Guilmant\, E. Schneider\, P. Ugoletti\, B. Thompson\, Tchaikovsky\, Escaich
URL:https://vaguesquartet.com/index.php/event/st-andreas/
LOCATION:Pfarrei St. Andreas\, Andreasstraße 27\, Düsseldorf\,\, 40213\, Germany
CATEGORIES:Concerti
END:VEVENT
END:VCALENDAR