BEGIN:VCALENDAR
VERSION:2.0
PRODID:-//Vagues Saxophone Quartet - ECPv5.15.0.1//NONSGML v1.0//EN
CALSCALE:GREGORIAN
METHOD:PUBLISH
X-WR-CALNAME:Vagues Saxophone Quartet
X-ORIGINAL-URL:https://vaguesquartet.com
X-WR-CALDESC:Eventi per Vagues Saxophone Quartet
BEGIN:VTIMEZONE
TZID:UTC
BEGIN:STANDARD
TZOFFSETFROM:+0000
TZOFFSETTO:+0000
TZNAME:UTC
DTSTART:20230101T000000
END:STANDARD
END:VTIMEZONE
BEGIN:VEVENT
DTSTART;VALUE=DATE:20231111
DTEND;VALUE=DATE:20231112
DTSTAMP:20260423T182747
CREATED:20231009T163711Z
LAST-MODIFIED:20231009T163711Z
UID:1144-1699660800-1699660800@vaguesquartet.com
SUMMARY:Accademia Vivaldi - Bollate (MI)
DESCRIPTION:
URL:https://vaguesquartet.com/index.php/event/accademia-vivaldi-bollate-mi/
LOCATION:Bollate
END:VEVENT
END:VCALENDAR