BEGIN:VCALENDAR
VERSION:2.0
PRODID:-//Vagues Saxophone Quartet - ECPv5.15.0.1//NONSGML v1.0//EN
CALSCALE:GREGORIAN
METHOD:PUBLISH
X-WR-CALNAME:Vagues Saxophone Quartet
X-ORIGINAL-URL:https://vaguesquartet.com
X-WR-CALDESC:Eventi per Vagues Saxophone Quartet
BEGIN:VTIMEZONE
TZID:UTC
BEGIN:STANDARD
TZOFFSETFROM:+0000
TZOFFSETTO:+0000
TZNAME:UTC
DTSTART:20230101T000000
END:STANDARD
END:VTIMEZONE
BEGIN:VEVENT
DTSTART;VALUE=DATE:20230909
DTEND;VALUE=DATE:20230910
DTSTAMP:20260423T210536
CREATED:20230903T185823Z
LAST-MODIFIED:20230903T185823Z
UID:1140-1694217600-1694303999@vaguesquartet.com
SUMMARY:Eroico Rosso - Tirano (SO)
DESCRIPTION:Vagues Saxophone Quartet \nAndrea Mocci – sax soprano\nFrancesco Ronzio – sax alto\nMattia Quirico – sax tenore\nSalvatore Castellano – sax baritono \n9 settembre 2023 h 20.30 \nPalazzo Quadrio-Foppoli\, Tirano (SO)
URL:https://vaguesquartet.com/index.php/event/eroico-rosso-tirano-so/
END:VEVENT
END:VCALENDAR