BEGIN:VCALENDAR
VERSION:2.0
PRODID:-//Vagues Saxophone Quartet - ECPv5.15.0.1//NONSGML v1.0//EN
CALSCALE:GREGORIAN
METHOD:PUBLISH
X-WR-CALNAME:Vagues Saxophone Quartet
X-ORIGINAL-URL:https://vaguesquartet.com
X-WR-CALDESC:Eventi per Vagues Saxophone Quartet
BEGIN:VTIMEZONE
TZID:UTC
BEGIN:STANDARD
TZOFFSETFROM:+0000
TZOFFSETTO:+0000
TZNAME:UTC
DTSTART:20230101T000000
END:STANDARD
END:VTIMEZONE
BEGIN:VEVENT
DTSTART;TZID=UTC:20230825T203000
DTEND;TZID=UTC:20230825T220000
DTSTAMP:20260423T222745
CREATED:20230703T145749Z
LAST-MODIFIED:20230825T055721Z
UID:1106-1692995400-1693000800@vaguesquartet.com
SUMMARY:I COLORI DELL'ARIA 7 - Concerto per Sant'Alessandro
DESCRIPTION:I COLORI DELL’ARIA 7 – Concerto per Sant’Alessandro\nPaladina (BG)\nChiesa parrocchiale di S. Alessandro Martire\nVenerdì 25 agosto 2023\nore 20.45 \nVagues Saxophone Quartet\nAndrea Mocci – sax soprano\nFrancesco Ronzio – sax alto\nMattia Quirico – sax tenore\nSalvatore Castellano – sax baritono
URL:https://vaguesquartet.com/index.php/event/i-colori-dellaria-7-concerto-per-santalessandro/
LOCATION:Chiesa Parrocchiale di Sant’Alessandro\, Piazza Vittorio Veneto\, 1\, Paladina BG\, 24030\, Italia
END:VEVENT
END:VCALENDAR