BEGIN:VCALENDAR
VERSION:2.0
PRODID:-//Vagues Saxophone Quartet - ECPv5.15.0.1//NONSGML v1.0//EN
CALSCALE:GREGORIAN
METHOD:PUBLISH
X-WR-CALNAME:Vagues Saxophone Quartet
X-ORIGINAL-URL:https://vaguesquartet.com
X-WR-CALDESC:Eventi per Vagues Saxophone Quartet
BEGIN:VTIMEZONE
TZID:UTC
BEGIN:STANDARD
TZOFFSETFROM:+0000
TZOFFSETTO:+0000
TZNAME:UTC
DTSTART:20230101T000000
END:STANDARD
END:VTIMEZONE
BEGIN:VEVENT
DTSTART;VALUE=DATE:20230816
DTEND;VALUE=DATE:20230817
DTSTAMP:20260423T222747
CREATED:20230703T144732Z
LAST-MODIFIED:20230703T144732Z
UID:1092-1692144000-1692230399@vaguesquartet.com
SUMMARY:I COLORI DELL'ARIA  6 - Concerto per Castione
DESCRIPTION:I COLORI DELL’ARIA 6 – Concerto per Castione\nCastione della Presolana (BG)\nChiesa parrocchiale di S. Alessandro Martire\nMercoledì 16 agosto 2023\nore 17.30 \nVagues Saxophone Quartet\nAndrea Mocci – sax soprano\nFrancesco Ronzio – sax alto\nMattia Quirico – sax tenore\nSalvatore Castellano – sax baritono \n 
URL:https://vaguesquartet.com/index.php/event/i-colori-dellaria-6-concerto-per-castione/
LOCATION:Chiesa parrocchiale di S. Alessandro Martire\, Via S. Bernardo\, 2\, Castione della Presolana (BG)\, 24020\, Italia
END:VEVENT
END:VCALENDAR