BEGIN:VCALENDAR
VERSION:2.0
PRODID:-//Vagues Saxophone Quartet - ECPv5.15.0.1//NONSGML v1.0//EN
CALSCALE:GREGORIAN
METHOD:PUBLISH
X-WR-CALNAME:Vagues Saxophone Quartet
X-ORIGINAL-URL:https://vaguesquartet.com
X-WR-CALDESC:Eventi per Vagues Saxophone Quartet
BEGIN:VTIMEZONE
TZID:UTC
BEGIN:STANDARD
TZOFFSETFROM:+0000
TZOFFSETTO:+0000
TZNAME:UTC
DTSTART:20230101T000000
END:STANDARD
END:VTIMEZONE
BEGIN:VEVENT
DTSTART;VALUE=DATE:20230715
DTEND;VALUE=DATE:20230716
DTSTAMP:20260423T235213
CREATED:20230507T123552Z
LAST-MODIFIED:20230507T123552Z
UID:1089-1689379200-1689465599@vaguesquartet.com
SUMMARY:Villa Guariglia - Vietri sul Mare (SA)
DESCRIPTION:
URL:https://vaguesquartet.com/index.php/event/villa-guariglia-vietri-sul-mare-sa/
END:VEVENT
END:VCALENDAR