BEGIN:VCALENDAR
VERSION:2.0
PRODID:-//Vagues Saxophone Quartet - ECPv5.15.0.1//NONSGML v1.0//EN
CALSCALE:GREGORIAN
METHOD:PUBLISH
X-WR-CALNAME:Vagues Saxophone Quartet
X-ORIGINAL-URL:https://vaguesquartet.com
X-WR-CALDESC:Eventi per Vagues Saxophone Quartet
BEGIN:VTIMEZONE
TZID:UTC
BEGIN:STANDARD
TZOFFSETFROM:+0000
TZOFFSETTO:+0000
TZNAME:UTC
DTSTART:20230101T000000
END:STANDARD
END:VTIMEZONE
BEGIN:VEVENT
DTSTART;VALUE=DATE:20230218
DTEND;VALUE=DATE:20230219
DTSTAMP:20260424T063026
CREATED:20230125T081936Z
LAST-MODIFIED:20230125T081936Z
UID:1072-1676678400-1676764799@vaguesquartet.com
SUMMARY:Sala Michelangeli - Bolzano
DESCRIPTION:Vagues Saxophone Quartet\nAndrea Mocci\nFrancesco Ronzio\nMattia Quirico\nSalvatore Castellano\n\nProgramma\n“Americhe” \nKurt Weill\nThe Threepenny Opera (J. Harle) \nGeorge Gershwin\nRhapsody in Blue \nAstor Piazzolla\nMilonga del Angel \nLeonard Bernstein\nWest Side Story \n\n\n 
URL:https://vaguesquartet.com/index.php/event/sala-michelangeli-bolzano/
END:VEVENT
END:VCALENDAR