BEGIN:VCALENDAR
VERSION:2.0
PRODID:-//Vagues Saxophone Quartet - ECPv5.15.0.1//NONSGML v1.0//EN
CALSCALE:GREGORIAN
METHOD:PUBLISH
X-WR-CALNAME:Vagues Saxophone Quartet
X-ORIGINAL-URL:https://vaguesquartet.com
X-WR-CALDESC:Eventi per Vagues Saxophone Quartet
BEGIN:VTIMEZONE
TZID:UTC
BEGIN:STANDARD
TZOFFSETFROM:+0000
TZOFFSETTO:+0000
TZNAME:UTC
DTSTART:20230101T000000
END:STANDARD
END:VTIMEZONE
BEGIN:VEVENT
DTSTART;TZID=UTC:20230122T160000
DTEND;TZID=UTC:20230122T180000
DTSTAMP:20260424T075547
CREATED:20220520T183104Z
LAST-MODIFIED:20230112T122457Z
UID:943-1674403200-1674410400@vaguesquartet.com
SUMMARY:Chiesa di San Nicolò ai Celestini - Bergamo
DESCRIPTION:Concerto in memoria di Giuseppe Anghileri \n22 Gennaio 2023 – Chiesa di San Nicolò ai Celestini\, Bergamo \nore 16.00 \nVagues Saxophone Quartet \nAndrea Mocci sax soprano\nFrancesco Ronzio sax alto\nMattia Quirico sax tenore\nSalvatore Castellano sax baritono \nMusiche di  Scarlatti\, Bach\, Piazzolla\, Nyman\, Bernstein \nprime esecuzioni dei lavori di Tessadrelli\, Rota\, Calcagno. \nDir. Artistico \nAlessandro Bottelli \n  \n 
URL:https://vaguesquartet.com/index.php/event/celestini-bergamo/
LOCATION:Ex Monastero di San Nicolò di Plorzano\, Via Pietri\, 2\, Bergamo\, 24124\, Italia
END:VEVENT
END:VCALENDAR