BEGIN:VCALENDAR
VERSION:2.0
PRODID:-//Vagues Saxophone Quartet - ECPv5.15.0.1//NONSGML v1.0//EN
CALSCALE:GREGORIAN
METHOD:PUBLISH
X-WR-CALNAME:Vagues Saxophone Quartet
X-ORIGINAL-URL:https://vaguesquartet.com
X-WR-CALDESC:Eventi per Vagues Saxophone Quartet
BEGIN:VTIMEZONE
TZID:UTC
BEGIN:STANDARD
TZOFFSETFROM:+0000
TZOFFSETTO:+0000
TZNAME:UTC
DTSTART:20220101T000000
END:STANDARD
END:VTIMEZONE
BEGIN:VEVENT
DTSTART;TZID=UTC:20220715T210000
DTEND;TZID=UTC:20220715T210000
DTSTAMP:20260424T165956
CREATED:20220520T182120Z
LAST-MODIFIED:20220531T121508Z
UID:939-1657918800-1657918800@vaguesquartet.com
SUMMARY:Villa Casati - Cinisello Balsamo (MI)
DESCRIPTION:15 Luglio 2022 – Cinisello Balsamo (MI) – Villa Casati \n  \nVagues Saxophone Quartet \nAndrea Mocci sax soprano\nFrancesco Ronzio sax alto\nMattia Quirico sax tenore\nSalvatore Castellano sax baritono \n  \nProgramma \n\nRavel – Le Tombeau de Couperin –  Prelude\nG. Pierné (1863 – 1937) – Introduction et Variations sur une Ronde Populaire\nD. Scarlatti (1685 – 1757) – S. Sciarrino – (da “Pagine e canzoniere da Scarlatti”) – Allegrissimo L. 215 (k. 120)\nG. Rossini (1792 – 1868) – G. Di Bacco – Rossini… per Quattro\nJ. Françaix (1912- 1997) – Petit Quatuor\nA. Piazzolla (1921 – 1992) – J. Van der Linden – Milonga del Angel\, Michelangelo ’70\nG. Gershwin (1898- 1937) – B. Holcombe – Selections from Porgy and Bess\n\n\n  \n\n 
URL:https://vaguesquartet.com/index.php/event/villa-casati-cinisello-balsamo-mi/
LOCATION:Villa Casati Stampa\, Piazza Soncino\, 3\, Cinisello Balsamo MI\, 20092\, Italia
CATEGORIES:Agenda,Concerti
END:VEVENT
END:VCALENDAR