BEGIN:VCALENDAR
VERSION:2.0
PRODID:-//Vagues Saxophone Quartet - ECPv5.15.0.1//NONSGML v1.0//EN
CALSCALE:GREGORIAN
METHOD:PUBLISH
X-WR-CALNAME:Vagues Saxophone Quartet
X-ORIGINAL-URL:https://vaguesquartet.com
X-WR-CALDESC:Eventi per Vagues Saxophone Quartet
BEGIN:VTIMEZONE
TZID:UTC
BEGIN:STANDARD
TZOFFSETFROM:+0000
TZOFFSETTO:+0000
TZNAME:UTC
DTSTART:20220101T000000
END:STANDARD
END:VTIMEZONE
BEGIN:VEVENT
DTSTART;VALUE=DATE:20220103
DTEND;VALUE=DATE:20220104
DTSTAMP:20260425T015200
CREATED:20200819T124821Z
LAST-MODIFIED:20210605T154838Z
UID:807-1641168000-1641254399@vaguesquartet.com
SUMMARY:Organ Project - Marienstatt - Abtei
DESCRIPTION:3 Gennaio 2022 \n  \nVagues Saxophone Quartet \nAndrea Mocci – sax soprano\nFrancesco Ronzio – sax alto\nMattia Quirico – sax tenore\nSalvatore Castellano – sax baritono \nGiovanni Solinas – organo \nMusiche di E. Schneider\, P. Ugoletti\, B. Thompson\, D’amico (World Premiére)
URL:https://vaguesquartet.com/index.php/event/organ-project-marienstatt-abtei/
LOCATION:Marienstatt Abtei\, Streithausen\, 57629\, Germany
CATEGORIES:Agenda,Concerti
END:VEVENT
END:VCALENDAR